BEGIN:VCALENDAR
VERSION:2.0
PRODID:-//Maximilian Kochendoerfer - ECPv6.4.0//NONSGML v1.0//EN
CALSCALE:GREGORIAN
METHOD:PUBLISH
X-ORIGINAL-URL:https://maxkochendoerfer.com
X-WR-CALDESC:Events for Maximilian Kochendoerfer
REFRESH-INTERVAL;VALUE=DURATION:PT1H
X-Robots-Tag:noindex
X-PUBLISHED-TTL:PT1H
BEGIN:VTIMEZONE
TZID:UTC
BEGIN:STANDARD
TZOFFSETFROM:+0000
TZOFFSETTO:+0000
TZNAME:UTC
DTSTART:20250101T000000
END:STANDARD
END:VTIMEZONE
BEGIN:VEVENT
DTSTART;VALUE=DATE:20251024
DTEND;VALUE=DATE:20251026
DTSTAMP:20260421T171340
CREATED:20250319T174712Z
LAST-MODIFIED:20250319T174712Z
UID:225307-1761264000-1761436799@maxkochendoerfer.com
SUMMARY:BMW 318ti Cup R07: Hockenheimring
DESCRIPTION:Siebtes Rennwochenende des DMV BMW 318ti Cup – Hockenheim
URL:https://maxkochendoerfer.com/event/bmw-318ti-cup-r07-hockenheimring
LOCATION:Hockenheimring
CATEGORIES:Fahrplan
ATTACH;FMTTYPE=image/jpeg:https://maxkochendoerfer.com/wp-content/uploads/2024/06/IMG_2891-scaled.jpg
END:VEVENT
END:VCALENDAR